BEGIN:VCALENDAR
VERSION:2.0
PRODID:-//Roland Lee - ECPv6.6.4.2//NONSGML v1.0//EN
CALSCALE:GREGORIAN
METHOD:PUBLISH
X-ORIGINAL-URL:https://rolandlee.com
X-WR-CALDESC:Events for Roland Lee
REFRESH-INTERVAL;VALUE=DURATION:PT1H
X-Robots-Tag:noindex
X-PUBLISHED-TTL:PT1H
BEGIN:VTIMEZONE
TZID:America/Denver
BEGIN:DAYLIGHT
TZOFFSETFROM:-0700
TZOFFSETTO:-0600
TZNAME:MDT
DTSTART:20200308T090000
END:DAYLIGHT
BEGIN:STANDARD
TZOFFSETFROM:-0600
TZOFFSETTO:-0700
TZNAME:MST
DTSTART:20201101T080000
END:STANDARD
BEGIN:DAYLIGHT
TZOFFSETFROM:-0700
TZOFFSETTO:-0600
TZNAME:MDT
DTSTART:20210314T090000
END:DAYLIGHT
BEGIN:STANDARD
TZOFFSETFROM:-0600
TZOFFSETTO:-0700
TZNAME:MST
DTSTART:20211107T080000
END:STANDARD
BEGIN:DAYLIGHT
TZOFFSETFROM:-0700
TZOFFSETTO:-0600
TZNAME:MDT
DTSTART:20220313T090000
END:DAYLIGHT
BEGIN:STANDARD
TZOFFSETFROM:-0600
TZOFFSETTO:-0700
TZNAME:MST
DTSTART:20221106T080000
END:STANDARD
BEGIN:DAYLIGHT
TZOFFSETFROM:-0700
TZOFFSETTO:-0600
TZNAME:MDT
DTSTART:20230312T090000
END:DAYLIGHT
BEGIN:STANDARD
TZOFFSETFROM:-0600
TZOFFSETTO:-0700
TZNAME:MST
DTSTART:20231105T080000
END:STANDARD
END:VTIMEZONE
BEGIN:VEVENT
DTSTART;TZID=America/Denver:20230410T080000
DTEND;TZID=America/Denver:20230430T170000
DTSTAMP:20260419T061258
CREATED:20230418T020837Z
LAST-MODIFIED:20230418T020837Z
UID:43523-1681113600-1682874000@rolandlee.com
SUMMARY:Dixie Watercolor Society Spring Show 2023
DESCRIPTION:I am pleased to have two paintings in the DWS Spring exhibit at Gallery 35 in St. George Utah. My painting\, “Winter Barn” was awarded 2nd place in the professional competition. The show runs until May 31.
URL:https://rolandlee.com/event/dixie-watercolor-society-spring-show-2023/
LOCATION:Gallery 35\, 35 South Main\, St. George\, UT\, 84770\, United States
CATEGORIES:National Exhibitions
ATTACH;FMTTYPE=image/jpeg:https://rolandlee.com/wp-content/uploads/2023/04/15823600_1341194592599109_4942315459845865323_n.jpg
END:VEVENT
BEGIN:VEVENT
DTSTART;TZID=America/Denver:20230321T090000
DTEND;TZID=America/Denver:20230322T160000
DTSTAMP:20260419T061258
CREATED:20230302T034336Z
LAST-MODIFIED:20230302T034336Z
UID:43454-1679389200-1679500800@rolandlee.com
SUMMARY:Dixie Watercolor Society Watercolor Workshop
DESCRIPTION:Roland will present a two-day watercolor painting workshop for the Dixie Watercolor Society March 21-22\, 2023. Class is currently full.
URL:https://rolandlee.com/event/dixie-watercolor-society-watercolor-workshop/
LOCATION:Ramada Inn Conference Center\, St. George
CATEGORIES:Painting Demo,Presentation,Workshops
ATTACH;FMTTYPE=image/png:https://rolandlee.com/wp-content/uploads/2021/03/the-spearhead-painting.png
END:VEVENT
BEGIN:VEVENT
DTSTART;TZID=America/Denver:20230316T190000
DTEND;TZID=America/Denver:20230316T203000
DTSTAMP:20260419T061258
CREATED:20230326T012503Z
LAST-MODIFIED:20230326T012503Z
UID:43465-1678993200-1678998600@rolandlee.com
SUMMARY:This Immense Prodigality of Color - Lyman Hafen and Roland Lee
DESCRIPTION:March 16\, 2023 7pm \nBumbleberry Inn Theater\, Springdale \nFree event \nLyman Hafen and Roland Lee share the stage for this presentation. For more than a century\, writers and artists have been telling the story of Zion National Park in word and image. Join these two long-time chroniclers of Zion for an eveninAn evening of words and pictures as writer Lyman Hafen and artist Roland Lee discuss the way Zion National Park affects artists and writers. “A picture is worth a thousand words\, but the perfect word can be worth a thousand pictures.”  Come here these two creatives talk and share a Powerpoint about their love of Zion Canyon and their new book\, “The Way to Angels Landing.”
URL:https://rolandlee.com/event/this-immense-prodigality-of-color-lyman-hafen-and-roland-lee/
LOCATION:Bumbleberry Inn Theater\, Springdale\, UT\, United States
ATTACH;FMTTYPE=image/jpeg:https://rolandlee.com/wp-content/uploads/2023/03/lyman-roland-poster-final-copy.jpg
END:VEVENT
BEGIN:VEVENT
DTSTART;TZID=America/Denver:20230316T070000
DTEND;TZID=America/Denver:20230316T200000
DTSTAMP:20260419T061258
CREATED:20230302T023526Z
LAST-MODIFIED:20230302T023526Z
UID:43441-1678950000-1678996800@rolandlee.com
SUMMARY:Lyman Hafen and Roland Lee "This Immense Prodigality of Color"
DESCRIPTION:March 7\, 2023 7pm Bumbleberry Inn\, Springdale Free event\nLyman Hafen and Roland Lee share the stage for this presentation.\nFor more than a century\, writers and artists have been telling the story of Zion National Park in word and image. Join these two long-time chroniclers of Zion for an evening of history and beauty.
URL:https://rolandlee.com/event/lyman-hafen-and-roland-lee-this-immense-prodigality-of-color/
LOCATION:Bumblerry Inn Theater\, Springdale\, United States
ATTACH;FMTTYPE=image/jpeg:https://rolandlee.com/wp-content/uploads/2023/03/lyman-roland-poster-final-copy.jpg
END:VEVENT
BEGIN:VEVENT
DTSTART;VALUE=DATE:20230218
DTEND;VALUE=DATE:20230403
DTSTAMP:20260419T061258
CREATED:20230302T033140Z
LAST-MODIFIED:20230302T033140Z
UID:43450-1676678400-1680479999@rolandlee.com
SUMMARY:Robert L and Peggy Sears Art Invitational
DESCRIPTION:I have two paintings on display at the 2023 Robert L. and Peggy Sears Art Invitational at Utah Tech University. The show runs from Feb 18 to April 7\, 2023.
URL:https://rolandlee.com/event/robert-l-and-peggy-sears-art-invitational/
LOCATION:Utah Tech University\, St. George\, 84770\, United States
CATEGORIES:Exhibits,National Exhibitions
ATTACH;FMTTYPE=image/jpeg:https://rolandlee.com/wp-content/uploads/2023/03/sears-invitational-card.jpg
END:VEVENT
BEGIN:VEVENT
DTSTART;VALUE=DATE:20230107
DTEND;VALUE=DATE:20231105
DTSTAMP:20260419T061258
CREATED:20201113T033703Z
LAST-MODIFIED:20230331T165525Z
UID:42554-1673049600-1699142399@rolandlee.com
SUMMARY:2023 Master Classes
DESCRIPTION:See sign-up information and dates on Roland’s Workshops page. Cost is $300 for two daysOne weekend each month Roland Lee invites four artists to his studio for two days of person to person instruction and help. This is only for experienced artists who are approved by Roland Lee.  Workshops
URL:https://rolandlee.com/event/master-class/
LOCATION:Roland Lee Art Gallery Classroom\, 165 North 100 East #2\, St. George\, UT\, 84770
CATEGORIES:Workshops
END:VEVENT
BEGIN:VEVENT
DTSTART;VALUE=DATE:20220926
DTEND;VALUE=DATE:20221002
DTSTAMP:20260419T061258
CREATED:20220908T160303Z
LAST-MODIFIED:20220908T160303Z
UID:43253-1664150400-1664668799@rolandlee.com
SUMMARY:St. George Plein Air Art Festival
DESCRIPTION:A brand new outdoor painting event for St. George\, Utah. Artists will paint throughout the area during the week of Sep 26 through October 1. The event will conclude with a sale of the paintings created.
URL:https://rolandlee.com/event/st-george-plein-air-art-festival/
LOCATION:UT
CATEGORIES:Art Auction,Art Festival,Paint Out,Painting Demo,Plein Air Invitational
ATTACH;FMTTYPE=image/jpeg:https://rolandlee.com/wp-content/uploads/2018/05/dscn7852.jpg
END:VEVENT
BEGIN:VEVENT
DTSTART;TZID=America/Denver:20220922T180000
DTEND;TZID=America/Denver:20220922T210000
DTSTAMP:20260419T061258
CREATED:20220908T155649Z
LAST-MODIFIED:20220908T155649Z
UID:43251-1663869600-1663880400@rolandlee.com
SUMMARY:Zions Bank Invitational Art Show
DESCRIPTION:This amazing one-day event is sponsored annually by Zions Bank. Roland Lee will be featuring his watercolor paintings as well as a few new acrylic paintings. Come out to see a great show.
URL:https://rolandlee.com/event/zions-bank-invitational-art-show/
LOCATION:Zions Bank St. George\, St. George\, UT\, 84770\, United States
CATEGORIES:Art Auction,Exhibits
ATTACH;FMTTYPE=image/jpeg:https://rolandlee.com/wp-content/uploads/2022/08/img_0530.jpg
END:VEVENT
BEGIN:VEVENT
DTSTART;VALUE=DATE:20220915
DTEND;VALUE=DATE:20220918
DTSTAMP:20260419T061258
CREATED:20220424T023525Z
LAST-MODIFIED:20220425T025919Z
UID:43170-1663200000-1663459199@rolandlee.com
SUMMARY:Plein Air Utah Retreat
DESCRIPTION:This 3-day event is co-sponsored by the Midway Arts Association and the Plein Air Painters of Utah. Approximately 100 artists paint along with about 24 members of the PAPU group in two live outdoor painting sessions each day\, with several indoors sessions\, plus lectures and demonstrations by invited artists. Unbelievably fun!
URL:https://rolandlee.com/event/plein-air-utah-retreat/
LOCATION:Midway Art Association\, MIdway\, UT
CATEGORIES:Paint Out,Painting Demo,Plein Air Invitational
ATTACH;FMTTYPE=image/jpeg:https://rolandlee.com/wp-content/uploads/2022/04/roland-pbs-demo.jpg
END:VEVENT
BEGIN:VEVENT
DTSTART;VALUE=DATE:20220914
DTEND;VALUE=DATE:20220919
DTSTAMP:20260419T061258
CREATED:20220908T155044Z
LAST-MODIFIED:20220908T155202Z
UID:43250-1663113600-1663545599@rolandlee.com
SUMMARY:Utah Plein Air Retreat
DESCRIPTION:Join 22 artists from the Plein Air Painters of Utah for a four day retreat in Midway Utah. Now in its fourth year\, this is one of the best ways to jump start your outdoor painting skills. All levels and mediums are welcome. Click here to register.
URL:https://rolandlee.com/event/utah-plein-air-retreat/
LOCATION:Midway Art Association\, MIdway\, UT
CATEGORIES:Paint Out,Painting Demo,Plein Air Invitational,Presentation
ATTACH;FMTTYPE=image/jpeg:https://rolandlee.com/wp-content/uploads/2022/09/plein-air-utah-22-logo.jpg
END:VEVENT
BEGIN:VEVENT
DTSTART;VALUE=DATE:20220625
DTEND;VALUE=DATE:20220817
DTSTAMP:20260419T061258
CREATED:20220424T015714Z
LAST-MODIFIED:20220424T020111Z
UID:43161-1656115200-1660694399@rolandlee.com
SUMMARY:Watercolor West 54th annual International Juried Exhibition
DESCRIPTION:“Autumn’s Ambience” by Roland Lee \nThis is my third acceptance into the Watercolor West Annual exhibitions\, and with it I received my Signature Membership in that organization. My painting “Autumn’s Ambience” will be exhibited in this show. June 25 through August 16\, 2022 at the Gallery of Coastline College in Newport Beach\, CA.
URL:https://rolandlee.com/event/watercolor-west-54th-annual-international-juried-exhibition/
LOCATION:Art Gallery at Coastline College\, Newport Beach\, California
ATTACH;FMTTYPE=image/png:https://rolandlee.com/wp-content/uploads/2022/04/ww-logo-trans-e1650852793696.png
END:VEVENT
BEGIN:VEVENT
DTSTART;VALUE=DATE:20220521
DTEND;VALUE=DATE:20220522
DTSTAMP:20260419T061258
CREATED:20220424T013444Z
LAST-MODIFIED:20220424T013550Z
UID:43155-1653091200-1653177599@rolandlee.com
SUMMARY:Southern Utah Museum of Art Auction
DESCRIPTION:This is a fund raising event of the museum on the campus of Southern Utah University. My painting “Autumn retreat” valued at $1500 will be in the auction. The date is May 21\, 2022. \n 
URL:https://rolandlee.com/event/southern-utah-museum-of-art-auction/
LOCATION:Southern Utah Museum of Art\, Corner University and 300 West\, Cedar City\, UT\, 84720\, United States
ATTACH;FMTTYPE=image/jpeg:https://rolandlee.com/wp-content/uploads/2022/04/suma-auction-logo-3.jpg
END:VEVENT
BEGIN:VEVENT
DTSTART;VALUE=DATE:20220506
DTEND;VALUE=DATE:20220606
DTSTAMP:20260419T061258
CREATED:20220424T010941Z
LAST-MODIFIED:20220424T011012Z
UID:43151-1651795200-1654473599@rolandlee.com
SUMMARY:Western Federation of Watercolor Societies 47th Annual Exhibit
DESCRIPTION:I am happy to find my painting “Colorado Barn” was accepted into the 47th annual Western Fed Show. It will run from may 6 through June 5 and is sponsored this year by the New Mexico Watercolor Society in Santa Fe.
URL:https://rolandlee.com/event/western-federation-of-watercolor-societies-47th-annual-exhibit/
LOCATION:expo-NM Fine Art Gallery\, Santa Fe\, New Mexico
CATEGORIES:National Exhibitions
ATTACH;FMTTYPE=image/jpeg:https://rolandlee.com/wp-content/uploads/2021/12/2030-colorado-barn-in-winter.jpg
END:VEVENT
BEGIN:VEVENT
DTSTART;TZID=America/Denver:20220501T081000
DTEND;TZID=America/Denver:20220531T170000
DTSTAMP:20260419T061258
CREATED:20220424T014424Z
LAST-MODIFIED:20220424T014424Z
UID:43159-1651392600-1654016400@rolandlee.com
SUMMARY:Utah Watercolor Society
DESCRIPTION:Friday May 6 through May 31\, 2022. I was please to be juried in the Spring Open exhibition of the UWS. My painting “Season’s Passage” will be exhibited at the Logan fine Art Center\, 60 West 100 North\, Logan Utah 84321.
URL:https://rolandlee.com/event/utah-watercolor-society/
LOCATION:Logan Fine art Gallery\, Logan\, Utah\, Utah\, 84321
CATEGORIES:National Exhibitions
ATTACH;FMTTYPE=image/jpeg:https://rolandlee.com/wp-content/uploads/2021/12/2027-seasons-passage.jpg
ORGANIZER;CN="Utah Watercolor Society":MAILTO:info @ utahwatercolor.org
END:VEVENT
BEGIN:VEVENT
DTSTART;VALUE=DATE:20220427
DTEND;VALUE=DATE:20220703
DTSTAMP:20260419T061258
CREATED:20220424T020853Z
LAST-MODIFIED:20220424T022112Z
UID:43165-1651017600-1656806399@rolandlee.com
SUMMARY:Springville 98th Annual Spring Salon
DESCRIPTION:Springville Art Museum\, April 27\, 2022 – July 2\, 2022 My painting\,  “Colorful Solitude” was selected for this exhibition. The Spring Salon was first held in 1922 and The Springville Museum of Art continues the tradition today and invites all artists in Utah to participate in the 98th Annual Spring Salon. This exhibition is a juried competition that showcases the diversity and quality of contemporary Utah art. \n\n“Colorful Solitude” by Roland Lee \n 
URL:https://rolandlee.com/event/springville-98th-annual-spring-salon/
LOCATION:Springville Museum of Art\, 126 EAST 400 SOUTH\, Springville\, UT
CATEGORIES:National Exhibitions
ATTACH;FMTTYPE=image/png:https://rolandlee.com/wp-content/uploads/2022/04/springville.png
END:VEVENT
BEGIN:VEVENT
DTSTART;TZID=America/Denver:20220219T080000
DTEND;TZID=America/Denver:20220402T170000
DTSTAMP:20260419T061258
CREATED:20220122T045236Z
LAST-MODIFIED:20220122T045531Z
UID:43005-1645257600-1648918800@rolandlee.com
SUMMARY:Sears Invitational Art Exhibit
DESCRIPTION:I will have two paintings in the 2022 Dixie Sears Invitational Art Show. The event is held annually at Dixie State University. this years show is February 19 through April 2 2022. \nSears Invitational Art Show by Roland Lee
URL:https://rolandlee.com/event/sears-invitational-art-exhibit/
LOCATION:DSU Sears Museum\, 225 North University Ave\, Saint George\, UT\, 84770\, United States
CATEGORIES:Exhibits,National Exhibitions
ATTACH;FMTTYPE=image/jpeg:https://rolandlee.com/wp-content/uploads/2022/01/sears-09-600.jpg
END:VEVENT
BEGIN:VEVENT
DTSTART;TZID=America/Denver:20220216T190000
DTEND;TZID=America/Denver:20220216T200000
DTSTAMP:20260419T061258
CREATED:20220122T044152Z
LAST-MODIFIED:20220122T044152Z
UID:43001-1645038000-1645041600@rolandlee.com
SUMMARY:A Brush with History - Roland Lee Paintings
DESCRIPTION:I will present a Powerpoint tracing the history of southern Utah using Roland Lee original paintings. I will narrate and show the changes in the southern Utah landscape\, peoples\, progress\, and problems for the last couple of million years. Don’t believe me? Come and see\, and it’s free.
URL:https://rolandlee.com/event/a-brush-with-history-roland-lee-paintings/
LOCATION:Tabernacle\, St. George\, ut
CATEGORIES:Presentation
ATTACH;FMTTYPE=image/jpeg:https://rolandlee.com/wp-content/uploads/2022/01/stgeotab.jpg
END:VEVENT
BEGIN:VEVENT
DTSTART;TZID=America/Denver:20220127T190000
DTEND;TZID=America/Denver:20220127T200000
DTSTAMP:20260419T061258
CREATED:20220122T040652Z
LAST-MODIFIED:20220122T040800Z
UID:42994-1643310000-1643313600@rolandlee.com
SUMMARY:PBS Utah Documentary "Call of the Canyon"
DESCRIPTION:Featuring Roland Lee and Kate Starling\, with musician Hal Cannon\, cowboy poet Waddie Mitchell\, and narration by Robert Redford. this one hour special premiers January 27 at 7pm.
URL:https://rolandlee.com/event/pbs-utah-documentary-call-of-the-canyon/
LOCATION:UT
CATEGORIES:Painting Demo,Production
ATTACH;FMTTYPE=image/jpeg:https://rolandlee.com/wp-content/uploads/2022/01/banners-for-youtube-videos.001.jpeg
END:VEVENT
BEGIN:VEVENT
DTSTART;TZID=America/Denver:20220127T173000
DTEND;TZID=America/Denver:20220127T173000
DTSTAMP:20260419T061258
CREATED:20220122T043241Z
LAST-MODIFIED:20220122T043241Z
UID:42998-1643304600-1643304600@rolandlee.com
SUMMARY:Dixie Watercolor Society Presentation
DESCRIPTION:“Copyright Laws for Artists” will be the subject of my Powerpoint presentation on January 27 at 5:30pm. We will discuss what artists can legally use in their own paintings\, and how to protect their own creations from being pirated. The meeting is at the Art Factor.
URL:https://rolandlee.com/event/dixie-watercolor-society-presentation/
LOCATION:The Art Factor\, Factory Stores\, St. George\, ut\, 84770
CATEGORIES:Presentation
ATTACH;FMTTYPE=image/jpeg:https://rolandlee.com/wp-content/uploads/2022/01/copyrightprimer-1280x600-1.jpg
END:VEVENT
BEGIN:VEVENT
DTSTART;TZID=America/Denver:20220127T080000
DTEND;TZID=America/Denver:20220129T200000
DTSTAMP:20260419T061258
CREATED:20220122T041320Z
LAST-MODIFIED:20220122T041320Z
UID:42996-1643270400-1643486400@rolandlee.com
SUMMARY:Plein Air Utah Live 2022
DESCRIPTION:Roland Lee will present a one hour and 40 minute watercolor demonstration for this annual event. This year it is presented online by Sentient and will also feature 25 members of the Plein Air Painters of Utah group. the event runs from January 27 to 29\, 2022. Sign up here.
URL:https://rolandlee.com/event/plein-air-utah-live-2022/
LOCATION:UT
ATTACH;FMTTYPE=image/jpeg:https://rolandlee.com/wp-content/uploads/2022/01/plein-air-utah-image.001.jpeg
END:VEVENT
BEGIN:VEVENT
DTSTART;TZID=America/Denver:20211112T190000
DTEND;TZID=America/Denver:20211112T200000
DTSTAMP:20260419T061258
CREATED:20210721T142654Z
LAST-MODIFIED:20210826T215920Z
UID:42841-1636743600-1636747200@rolandlee.com
SUMMARY:Keynote Speaker - Business of Art
DESCRIPTION:Roland Lee will present a discussion at the Opening Reception of the 2021 Business of Art conference at Dixie State University Friday September 10\, 2021.
URL:https://rolandlee.com/event/keynote-speaker-business-of-art/
LOCATION:DSU Sears Museum\, 225 North University Ave\, Saint George\, UT\, 84770\, United States
CATEGORIES:Presentation
ATTACH;FMTTYPE=image/jpeg:https://rolandlee.com/wp-content/uploads/2019/06/bobbi-wankier-me-speaking.jpg
END:VEVENT
BEGIN:VEVENT
DTSTART;VALUE=DATE:20211013
DTEND;VALUE=DATE:20211017
DTSTAMP:20260419T061258
CREATED:20210621T005131Z
LAST-MODIFIED:20210621T005131Z
UID:42758-1634083200-1634428799@rolandlee.com
SUMMARY:Arts and the Park "Light on the Reef" Plein Air at Capitol Reef
DESCRIPTION:Roland Lee is the guest artist for Arts and the Park “Light on the Reef” October 13 through October 16\, 2021. This outdoor painting event includes a competition and art sale on the final day at Cougar Ridge Ranch in Torrey\, Utah. Roland Lee will give a talk at “Robber’s Roost” book store in Torrey on Friday night and jury the paintings on Saturday. This event is co-hosted by the Utah Watercolor Society and the Entrada Institute.
URL:https://rolandlee.com/event/arts-and-the-park-light-on-the-reef-plein-air-at-capitol-reef/
LOCATION:Entrada Institute\, Torrey\, Utah
ATTACH;FMTTYPE=image/jpeg:https://rolandlee.com/wp-content/uploads/2021/06/arts-and-the-park.jpg
ORGANIZER;CN="Utah Watercolor Society":MAILTO:info @ utahwatercolor.org
END:VEVENT
BEGIN:VEVENT
DTSTART;VALUE=DATE:20211006
DTEND;VALUE=DATE:20211010
DTSTAMP:20260419T061258
CREATED:20210621T002833Z
LAST-MODIFIED:20210621T003101Z
UID:42756-1633478400-1633823999@rolandlee.com
SUMMARY:Maynard Dixon Legacy Workshop
DESCRIPTION:My Fall East Zion plein air workshop will be hosted this year at the Maynard Dixon property in Mount Carmel\, Utah. Daily classes will be conducted at the Edith Hamlin studio on the Dixon property with demonstrations and outdoor painting in several locations in the East Zion area. Class Full. Email to be put on waiting list.
URL:https://rolandlee.com/event/maynard-dixon-legacy-workshop/
LOCATION:Maynard Dixon Property\, Mount Carmel\, Utah
CATEGORIES:Painting Demo,Workshops
ATTACH;FMTTYPE=image/jpeg:https://rolandlee.com/wp-content/uploads/2020/12/dixon-studio-exterior-by-spike-ress.jpg
END:VEVENT
BEGIN:VEVENT
DTSTART;VALUE=DATE:20211001
DTEND;VALUE=DATE:20220223
DTSTAMP:20260419T061258
CREATED:20210603T162316Z
LAST-MODIFIED:20220122T042234Z
UID:42740-1633046400-1645574399@rolandlee.com
SUMMARY:Phippen Museum "The River Flows" Watercolors of the American West
DESCRIPTION:An exhibit featuring Roland Lee and other watercolor artists who have impacted the history of western watercolor art. The show includes paintings from artists who are included in the new art book “The River Flows: Watercolor Artists of the American West”\nOctober 2 through February 2022\nGrand Opening October 1\, 2021\nPlease see the website for opening weekend activities.\nhttp://www.riverflowsbook.com \nPhippen Museum\, Prescott AZ\nIn the Marley Gallery\nOctober 2nd\, 2021 through February 6th\, 2022 \nThe highly anticipated exhibition & sale of artworks representing contemporary watercolorists: Morten E. Solberg Sr.\, Don Weller\, Tom Perkinson\, Ian Ramsay\, William Matthews\, Roland Lee\, Jim House\, Nelson Boren\, Marlin Rotach\, John Fawcett\, Dean Mitchell\, Kathy Sigle\, Teal Blake\, Joseph Oakes Alleman.\n\n Visit our Museum Store to purchase The River Flows: Watercolors of the American West book that accompanies this exceptional exhibit.
URL:https://rolandlee.com/event/phippen-museum-the-river-flows-watercolors-of-the-american-west/
LOCATION:Phippen Museum\, Prescott\, AZ
CATEGORIES:National Exhibitions
ATTACH;FMTTYPE=image/jpeg:https://rolandlee.com/wp-content/uploads/2021/10/img_6089.jpg
END:VEVENT
BEGIN:VEVENT
DTSTART;TZID=America/Denver:20210922T190000
DTEND;TZID=America/Denver:20210922T203000
DTSTAMP:20260419T061258
CREATED:20210721T142112Z
LAST-MODIFIED:20210721T142112Z
UID:42839-1632337200-1632342600@rolandlee.com
SUMMARY:Painting Demo at Midway Art Association
DESCRIPTION:I will present a watercolor demonstration at the Midway Art Association meeting September 22 at 7pm. The meeting will be held at the Midway Town Hall.
URL:https://rolandlee.com/event/painting-demo-at-midway-art-association/
LOCATION:Midway Art Association\, MIdway\, UT
CATEGORIES:Painting Demo
ATTACH;FMTTYPE=image/jpeg:https://rolandlee.com/wp-content/uploads/2020/03/img_2746-2.jpg
END:VEVENT
BEGIN:VEVENT
DTSTART;TZID=America/Denver:20210922T080000
DTEND;TZID=America/Denver:20210925T210000
DTSTAMP:20260419T061258
CREATED:20210620T225033Z
LAST-MODIFIED:20210620T225047Z
UID:42749-1632297600-1632603600@rolandlee.com
SUMMARY:Plein Air Utah
DESCRIPTION:Roland Lee will conduct field demonstrations at the annual Plein Air Utah event Sept 22 – 25\, 2021. Members of the Plein Air Artists of Utah group will conduct seminars\, demonstrations\, and field painting experiences with 100 artists at this exciting event. Headquartered at the Midway Town Hall.
URL:https://rolandlee.com/event/plein-air-utah/
LOCATION:Midway Utah
CATEGORIES:Paint Out,Painting Demo,Plein Air Invitational,Presentation,Workshops
ATTACH;FMTTYPE=image/jpeg:https://rolandlee.com/wp-content/uploads/2021/06/plein-air-utah-live-logo2021-.jpg
END:VEVENT
BEGIN:VEVENT
DTSTART;TZID=America/Denver:20210620T080000
DTEND;TZID=America/Denver:20210620T170000
DTSTAMP:20260419T061258
CREATED:20210620T225854Z
LAST-MODIFIED:20210620T225854Z
UID:42752-1624176000-1624208400@rolandlee.com
SUMMARY:Arts and the Park - Capitol Reef
DESCRIPTION:I will be the guest artist and juror for Utah Watercolor Society’s “Art and the Park” event October 14-16 in Torrey Utah. I will make a presentation at Robbers’ Roost on Friday night and there will be a painting show and sale Saturday at Cougar Ridge Ranch. For more information contact Utah Watercolor Society. This is a fundraiser for the Entrada Institute.
URL:https://rolandlee.com/event/arts-and-the-park-capitol-reef/
LOCATION:Cougar Ridge Ranch\, Torrey\, UT
END:VEVENT
BEGIN:VEVENT
DTSTART;VALUE=DATE:20210213
DTEND;VALUE=DATE:20210419
DTSTAMP:20260419T061258
CREATED:20201214T034539Z
LAST-MODIFIED:20201214T034539Z
UID:42555-1613174400-1618790399@rolandlee.com
SUMMARY:Dixie Sears Invitational Art Exhibit
DESCRIPTION:Held annually at the Sears Museum on the campus of Dixie State University\, this invitational features one or two paintings by numerous well-known artists.
URL:https://rolandlee.com/event/dixie-sears-invitational-art-exhibit/
LOCATION:DSU Sears Museum\, 225 North University Ave\, Saint George\, UT\, 84770\, United States
CATEGORIES:Exhibits,National Exhibitions
ATTACH;FMTTYPE=image/jpeg:https://rolandlee.com/wp-content/uploads/2018/01/img_6610.jpg
END:VEVENT
BEGIN:VEVENT
DTSTART;TZID=America/Denver:20210122T090000
DTEND;TZID=America/Denver:20210124T210000
DTSTAMP:20260419T061258
CREATED:20201214T035739Z
LAST-MODIFIED:20201214T041047Z
UID:42556-1611306000-1611522000@rolandlee.com
SUMMARY:Plein Air Utah Live
DESCRIPTION:Because of the cancellation of September 2020 Plein Air Utah Artists Retreat in Midway Utah\, we have re-scheduled the event for a special three-day live online event January 21-23\, 2021. Roland Lee will be one of 25 scheduled presenters. sign up now at PLEIN AIR UTAH LIVE. Presented by the Sentient Academy.
URL:https://rolandlee.com/event/plein-air-utah-online/
LOCATION:Sentient Academy
CATEGORIES:Paint Out,Painting Demo,Presentation,Workshops
ATTACH;FMTTYPE=image/jpeg:https://rolandlee.com/wp-content/uploads/2020/12/plein-air-utah-live.jpg
END:VEVENT
BEGIN:VEVENT
DTSTART;VALUE=DATE:20201015
DTEND;VALUE=DATE:20201018
DTSTAMP:20260419T061258
CREATED:20191217T033706Z
LAST-MODIFIED:20200515T003904Z
UID:42069-1602720000-1602979199@rolandlee.com
SUMMARY:East Zion Plein Air Workshop
DESCRIPTION:October 17-19\, 2020  Cost $300  EAST ZION PLEIN AIR  – FULL\nNOTE: THIS CLASS IS FULL with a waiting list. Three days of painting in Maynard Dixon’s backyard. Enjoy the dynamic scenery which brought so many great artists to the East Zion National Park and Mt. Carmel area. This workshop combines both indoor studio instruction with extensive outdoor painting each day.\nEast Zion Nat’l Park and Mt. Carmel UT. For availability email or call 435-673-1988 \nMaterials List and Instructions (Download)
URL:https://rolandlee.com/event/east-zion-plein-air-workshop/
LOCATION:Mt. Carmel\, UT\, 2200 State Street\, Mt. Carmel\, UT\, 84755\, United States
CATEGORIES:Workshops
ATTACH;FMTTYPE=image/jpeg:https://rolandlee.com/wp-content/uploads/2017/10/img_2479.jpg
END:VEVENT
END:VCALENDAR