BEGIN:VCALENDAR
VERSION:2.0
PRODID:-//Roland Lee - ECPv6.6.4.2//NONSGML v1.0//EN
CALSCALE:GREGORIAN
METHOD:PUBLISH
X-ORIGINAL-URL:https://rolandlee.com
X-WR-CALDESC:Events for Roland Lee
REFRESH-INTERVAL;VALUE=DURATION:PT1H
X-Robots-Tag:noindex
X-PUBLISHED-TTL:PT1H
BEGIN:VTIMEZONE
TZID:America/Denver
BEGIN:DAYLIGHT
TZOFFSETFROM:-0700
TZOFFSETTO:-0600
TZNAME:MDT
DTSTART:20260308T090000
END:DAYLIGHT
BEGIN:STANDARD
TZOFFSETFROM:-0600
TZOFFSETTO:-0700
TZNAME:MST
DTSTART:20261101T080000
END:STANDARD
BEGIN:DAYLIGHT
TZOFFSETFROM:-0700
TZOFFSETTO:-0600
TZNAME:MDT
DTSTART:20270314T090000
END:DAYLIGHT
BEGIN:STANDARD
TZOFFSETFROM:-0600
TZOFFSETTO:-0700
TZNAME:MST
DTSTART:20271107T080000
END:STANDARD
END:VTIMEZONE
BEGIN:VEVENT
DTSTART;TZID=America/Denver:20260331T100000
DTEND;TZID=America/Denver:20260504T170000
DTSTAMP:20260419T060902
CREATED:20260329T164238Z
LAST-MODIFIED:20260329T172037Z
UID:44750-1774951200-1777914000@rolandlee.com
SUMMARY:Dixie Watercolor Society Spring Show
DESCRIPTION:March 31 – May 4\, 2026 at the Gallery 35\, 35 N. Main\, St. George
URL:https://rolandlee.com/event/dixie-watercolor-society-spring-show-2/
LOCATION:Gallery 35\, 35 South Main\, St. George\, UT\, 84770\, United States
CATEGORIES:National Exhibitions
ATTACH;FMTTYPE=image/jpeg:https://rolandlee.com/wp-content/uploads/2026/03/2428-blue-door-at-dixons.jpg
END:VEVENT
BEGIN:VEVENT
DTSTART;VALUE=DATE:20260425
DTEND;VALUE=DATE:20260503
DTSTAMP:20260419T060902
CREATED:20260411T005630Z
LAST-MODIFIED:20260411T005630Z
UID:44779-1777075200-1777766399@rolandlee.com
SUMMARY:Springville Spring Salon 2026
DESCRIPTION:The Springville Art Museum in Utah presents its 2026 Spring Salon juried show. I am excited that my painting Kolob Grandeur was accepted. \nSaturday April 25\, 2026\nExhibition Opens 7:00pm\nOpening Reception  7:00-9:00pm \nWednesday April 29 – Saturday May 2\, 2026  10:00am-5:00pm
URL:https://rolandlee.com/event/springville-spring-salon-2026/
LOCATION:Springville Museum of Art\, 126 EAST 400 SOUTH\, Springville\, UT
CATEGORIES:National Exhibitions
ATTACH;FMTTYPE=image/jpeg:https://rolandlee.com/wp-content/uploads/2026/02/2408-kolob-grandeur-.jpg
END:VEVENT
BEGIN:VEVENT
DTSTART;TZID=America/Denver:20260508T153000
DTEND;TZID=America/Denver:20270612T170000
DTSTAMP:20260419T060902
CREATED:20260329T174417Z
LAST-MODIFIED:20260329T175628Z
UID:44758-1778254200-1812819600@rolandlee.com
SUMMARY:Utah Watercolor Society Spring Show
DESCRIPTION:May 8 – June 12\, 2026 at the Gene Nelson Attic Art Gallery in the Provo City Library.
URL:https://rolandlee.com/event/utah-watercolor-society-spring-show/
LOCATION:Provo Library Nelson Attic\, 550 North University Avenue\, Provo\, UT
ATTACH;FMTTYPE=image/jpeg:https://rolandlee.com/wp-content/uploads/2025/06/2359-up-up-and-away.jpg
ORGANIZER;CN="Utah Watercolor Society":MAILTO:info @ utahwatercolor.org
END:VEVENT
BEGIN:VEVENT
DTSTART;TZID=America/Denver:20260529T100000
DTEND;TZID=America/Denver:20270829T170000
DTSTAMP:20260419T060902
CREATED:20260329T175336Z
LAST-MODIFIED:20260329T175547Z
UID:44760-1780048800-1819558800@rolandlee.com
SUMMARY:Oil Painters of America National Juried Exhibition
DESCRIPTION:May 29 – August 29\, 2026. My oil painting “Mighty Mount Majestic” was juried into this prestigious show. It’s nice to have my oil paintings get some recognition too. The show is located at the Steamboat Springs Art Museum in Colorado. \n 
URL:https://rolandlee.com/event/oil-painters-of-america-national-juried-exhibition/
LOCATION:Steamboat Art Museum\, Steamboat Springs\,\, CO
CATEGORIES:National Exhibitions
ATTACH;FMTTYPE=image/jpeg:https://rolandlee.com/wp-content/uploads/2026/03/mighty-mt-majestic-1.jpg
END:VEVENT
BEGIN:VEVENT
DTSTART;TZID=America/Denver:20260915T080000
DTEND;TZID=America/Denver:20260920T210000
DTSTAMP:20260419T060902
CREATED:20260330T193522Z
LAST-MODIFIED:20260330T193724Z
UID:44776-1789459200-1789938000@rolandlee.com
SUMMARY:2026 Plein Air Utah Artists Retreat
DESCRIPTION:The Plein Air Painters of Utah will once again gather in Midway\, Utah for Plein Air Utah Retreat September 2-7\, 2026. About 15 members of the group will give daily live painting demonstrations\, teach workshops\, and mentor about 50 artist-students.
URL:https://rolandlee.com/event/2026-plein-air-utah-artists-retreat/
LOCATION:Midway Utah
ATTACH;FMTTYPE=image/jpeg:https://rolandlee.com/wp-content/uploads/2026/03/img_0286.jpg
END:VEVENT
BEGIN:VEVENT
DTSTART;TZID=America/Denver:20260924T180000
DTEND;TZID=America/Denver:20260924T210000
DTSTAMP:20260419T060902
CREATED:20260330T191312Z
LAST-MODIFIED:20260330T191512Z
UID:44773-1790272800-1790283600@rolandlee.com
SUMMARY:Zions Bank Fifth Biennial Southern Utah Art Show
DESCRIPTION:I will be participating in the Zions Bank Fifth Biennial Southern Utah Art Show and Sale September 24\, 2026. The bank will be filled with artists both on the main level and upstairs for this evening of art. \n\nArt Show Date: September 24\, 2026\nLocation: Zions Bank\, 40 E St George Blvd\, St George\, Utah
URL:https://rolandlee.com/event/zions-bank-fifth-biennial-southern-utah-art-show/
LOCATION:Zions Bank St. George\, St. George\, UT\, 84770\, United States
CATEGORIES:National Exhibitions
ATTACH;FMTTYPE=image/jpeg:https://rolandlee.com/wp-content/uploads/2026/03/img_1146-1.jpg
END:VEVENT
BEGIN:VEVENT
DTSTART;VALUE=DATE:20261102
DTEND;VALUE=DATE:20261109
DTSTAMP:20260419T060902
CREATED:20260329T180426Z
LAST-MODIFIED:20260329T180615Z
UID:44765-1793577600-1794182399@rolandlee.com
SUMMARY:Zion National Park Art Invitational
DESCRIPTION:The Zion Forever Project\, in partnership with Zion National Park and Worthington Gallery\, announced the 2026 Zion National Park Art Invitational\, taking place November 2-7\, 2026 in Zion Canyon.\n15 artists\, daily plein air demonstrations\, Saturday live paint-out.
URL:https://rolandlee.com/event/zion-national-park-art-invitational/
LOCATION:Zion National Park\, Springdale\, UT\, 84767\, United States
ATTACH;FMTTYPE=image/jpeg:https://rolandlee.com/wp-content/uploads/2025/11/img_2235.jpeg
END:VEVENT
END:VCALENDAR